BEGIN:VCALENDAR
VERSION:2.0
PRODID:-//AMF66 - ECPv6.15.20//NONSGML v1.0//EN
CALSCALE:GREGORIAN
METHOD:PUBLISH
X-WR-CALNAME:AMF66
X-ORIGINAL-URL:https://amf66.fr
X-WR-CALDESC:Évènements pour AMF66
REFRESH-INTERVAL;VALUE=DURATION:PT1H
X-Robots-Tag:noindex
X-PUBLISHED-TTL:PT1H
BEGIN:VTIMEZONE
TZID:Europe/Paris
BEGIN:DAYLIGHT
TZOFFSETFROM:+0100
TZOFFSETTO:+0200
TZNAME:CEST
DTSTART:20240331T010000
END:DAYLIGHT
BEGIN:STANDARD
TZOFFSETFROM:+0200
TZOFFSETTO:+0100
TZNAME:CET
DTSTART:20241027T010000
END:STANDARD
BEGIN:DAYLIGHT
TZOFFSETFROM:+0100
TZOFFSETTO:+0200
TZNAME:CEST
DTSTART:20250330T010000
END:DAYLIGHT
BEGIN:STANDARD
TZOFFSETFROM:+0200
TZOFFSETTO:+0100
TZNAME:CET
DTSTART:20251026T010000
END:STANDARD
BEGIN:DAYLIGHT
TZOFFSETFROM:+0100
TZOFFSETTO:+0200
TZNAME:CEST
DTSTART:20260329T010000
END:DAYLIGHT
BEGIN:STANDARD
TZOFFSETFROM:+0200
TZOFFSETTO:+0100
TZNAME:CET
DTSTART:20261025T010000
END:STANDARD
END:VTIMEZONE
BEGIN:VEVENT
DTSTART;VALUE=DATE:20251117
DTEND;VALUE=DATE:20251121
DTSTAMP:20260421T122830
CREATED:20250905T095706Z
LAST-MODIFIED:20250909T084924Z
UID:14483-1763337600-1763683199@amf66.fr
SUMMARY:Congrès national des Maires de France
DESCRIPTION:
URL:https://amf66.fr/evenement/congres-national-des-maires-de-france/
LOCATION:PARIS
CATEGORIES:Evénement
ATTACH;FMTTYPE=image/jpeg:https://amf66.fr/wp-content/uploads/2025/09/Plan-de-travail-1-100.jpg
END:VEVENT
END:VCALENDAR