BEGIN:VCALENDAR
VERSION:2.0
PRODID:-//AMF66 - ECPv6.15.20//NONSGML v1.0//EN
CALSCALE:GREGORIAN
METHOD:PUBLISH
X-ORIGINAL-URL:https://amf66.fr
X-WR-CALDESC:Évènements pour AMF66
REFRESH-INTERVAL;VALUE=DURATION:PT1H
X-Robots-Tag:noindex
X-PUBLISHED-TTL:PT1H
BEGIN:VTIMEZONE
TZID:UTC
BEGIN:STANDARD
TZOFFSETFROM:+0000
TZOFFSETTO:+0000
TZNAME:UTC
DTSTART:20210101T000000
END:STANDARD
END:VTIMEZONE
BEGIN:VEVENT
DTSTART;TZID=UTC:20220509T170000
DTEND;TZID=UTC:20220509T180000
DTSTAMP:20260422T085808
CREATED:20220502T075327Z
LAST-MODIFIED:20220502T075445Z
UID:10767-1652115600-1652119200@amf66.fr
SUMMARY:Réunion d'information UDCCAS - Présentation de l'Association Mediance 66
DESCRIPTION:
URL:https://amf66.fr/evenement/reunion-dinformation-udccas-presentation-de-lassociation-mediance-66/
LOCATION:ELNE (Salle des Fêtes)\, 14 Bd Voltaire\, ELNE\, 66200\, France
CATEGORIES:Réunion d'information
END:VEVENT
END:VCALENDAR