BEGIN:VCALENDAR
VERSION:2.0
PRODID:-//AMF66 - ECPv6.15.20//NONSGML v1.0//EN
CALSCALE:GREGORIAN
METHOD:PUBLISH
X-WR-CALNAME:AMF66
X-ORIGINAL-URL:https://amf66.fr
X-WR-CALDESC:Évènements pour AMF66
REFRESH-INTERVAL;VALUE=DURATION:PT1H
X-Robots-Tag:noindex
X-PUBLISHED-TTL:PT1H
BEGIN:VTIMEZONE
TZID:Europe/Paris
BEGIN:DAYLIGHT
TZOFFSETFROM:+0100
TZOFFSETTO:+0200
TZNAME:CEST
DTSTART:20210328T010000
END:DAYLIGHT
BEGIN:STANDARD
TZOFFSETFROM:+0200
TZOFFSETTO:+0100
TZNAME:CET
DTSTART:20211031T010000
END:STANDARD
BEGIN:DAYLIGHT
TZOFFSETFROM:+0100
TZOFFSETTO:+0200
TZNAME:CEST
DTSTART:20220327T010000
END:DAYLIGHT
BEGIN:STANDARD
TZOFFSETFROM:+0200
TZOFFSETTO:+0100
TZNAME:CET
DTSTART:20221030T010000
END:STANDARD
BEGIN:DAYLIGHT
TZOFFSETFROM:+0100
TZOFFSETTO:+0200
TZNAME:CEST
DTSTART:20230326T010000
END:DAYLIGHT
BEGIN:STANDARD
TZOFFSETFROM:+0200
TZOFFSETTO:+0100
TZNAME:CET
DTSTART:20231029T010000
END:STANDARD
END:VTIMEZONE
BEGIN:VEVENT
DTSTART;TZID=Europe/Paris:20220603T150000
DTEND;TZID=Europe/Paris:20220603T170000
DTSTAMP:20260422T070916
CREATED:20220602T071706Z
LAST-MODIFIED:20220602T071827Z
UID:10833-1654268400-1654275600@amf66.fr
SUMMARY:Réunion d'information "Prévenir et agir contre l'Habitat indigne"
DESCRIPTION:L’Union Départementale des Centres Communaux d’Action Sociale (UDCCAS 66) en partenariat avec l’Association des Maires\, des Adjoints et de l’Intercommunalité des Pyrénées-Orientales organise trois réunions d’information à l’intention des élus et des agents des CCAS sur le thème : \n« Prévenir et agir contre l’Habitat indigne » \nCes réunions d’information seront dispensées par l’Agence Départementale pour l’Information sur le Logement. – ADIL 66 \nCes rencontres se dérouleront sur 3 lieux : \n\n Le vendredi 3 juin 2022 de 15h00 à 17h00 à MAUREILLAS – LAS ILLAS (Salle du Conseil municipal – Hôtel de ville)\nLe vendredi 10 juin 2022 de 15h00 à 17h00 à SAINT-PAUL-DE-FENOUILLET (Salle de Réception du Club house – rue de la Résistance)\nLe mardi 14 juin 2022 de 15h00 à 17h00 à VINCA (Salle du Conseil municipal – Hôtel de ville)\n\nVous pouvez vous faire accompagner ou représenter par les élus ou techniciens de votre choix.
URL:https://amf66.fr/evenement/reunion-dinformation-prevenir-et-agir-contre-lhabitat-indigne/
LOCATION:MAUREILLAS – LAS ILLAS (Salle du Conseil municipal)\, 14 Avenue du Vallespir\, MAUREILLAS - LAS ILLAS\, 66480\, France
CATEGORIES:Réunion d'information
END:VEVENT
BEGIN:VEVENT
DTSTART;TZID=Europe/Paris:20220610T150000
DTEND;TZID=Europe/Paris:20220610T170000
DTSTAMP:20260422T070916
CREATED:20220602T073335Z
LAST-MODIFIED:20220602T073634Z
UID:10844-1654873200-1654880400@amf66.fr
SUMMARY:Réunion d'information "Prévenir et agir contre l'Habitat indigne"
DESCRIPTION:L’Union Départementale des Centres Communaux d’Action Sociale (UDCCAS 66) en partenariat avec l’Association des Maires\, des Adjoints et de l’Intercommunalité des Pyrénées-Orientales organise trois réunions d’information à l’intention des élus et des agents des CCAS sur le thème : \n« Prévenir et agir contre l’Habitat indigne » \nCes réunions d’information seront dispensées par l’Agence Départementale pour l’Information sur le Logement. – ADIL 66 \nCes rencontres se dérouleront sur 3 lieux : \n\nLe vendredi 3 juin 2022 de 15h00 à 17h00 à MAUREILLAS – LAS ILLAS (Salle du Conseil municipal – Hôtel de ville)\nLe vendredi 10 juin 2022 de 15h00 à 17h00 à SAINT-PAUL-DE-FENOUILLET (Salle de Réception du Club house – rue de la Résistance)\nLe mardi 14 juin 2022 de 15h00 à 17h00 à VINCA (Salle du Conseil municipal – Hôtel de ville)\n\nVous pouvez vous faire accompagner ou représenter par les élus ou techniciens de votre choix.
URL:https://amf66.fr/evenement/reunion-dinformation-prevenir-et-agir-contre-lhabitat-indigne-2/
LOCATION:SAINT-PAUL DE FENOUILLET (Salle de Réception du Club house)\, rue de la résistance\, SAINT-PAUL DE FENOUILLET\, 66220\, France
CATEGORIES:Réunion d'information
END:VEVENT
BEGIN:VEVENT
DTSTART;TZID=Europe/Paris:20220614T150000
DTEND;TZID=Europe/Paris:20220614T170000
DTSTAMP:20260422T070916
CREATED:20220602T074258Z
LAST-MODIFIED:20220602T074314Z
UID:10850-1655218800-1655226000@amf66.fr
SUMMARY:Réunion d'information "Prévenir et agir contre l'Habitat Indigne"
DESCRIPTION:L’Union Départementale des Centres Communaux d’Action Sociale (UDCCAS 66) en partenariat avec l’Association des Maires\, des Adjoints et de l’Intercommunalité des Pyrénées-Orientales organise trois réunions d’information à l’intention des élus et des agents des CCAS sur le thème : \n« Prévenir et agir contre l’Habitat indigne » \nCes réunions d’information seront dispensées par l’Agence Départementale pour l’Information sur le Logement. – ADIL 66 \nCes rencontres se dérouleront sur 3 lieux : \n\nLe vendredi 3 juin 2022 de 15h00 à 17h00 à MAUREILLAS – LAS ILLAS (Salle du Conseil municipal – Hôtel de ville)\nLe vendredi 10 juin 2022 de 15h00 à 17h00 à SAINT-PAUL-DE-FENOUILLET (Salle de Réception du Club house – rue de la Résistance)\nLe mardi 14 juin 2022 de 15h00 à 17h00 à VINCA (Salle du Conseil municipal – Hôtel de ville)\n\nVous pouvez vous faire accompagner ou représenter par les élus ou techniciens de votre choix.
URL:https://amf66.fr/evenement/reunion-dinformation-prevenir-et-agir-contre-lhabitat-indigne-3/
LOCATION:VINCA (Salle du Conseil Municipal)\, 17 avenue Général de Gaulle\, VINCA\, 66320\, France
CATEGORIES:Réunion d'information
END:VEVENT
END:VCALENDAR