BEGIN:VCALENDAR
VERSION:2.0
PRODID:-//AMF66 - ECPv6.15.20//NONSGML v1.0//EN
CALSCALE:GREGORIAN
METHOD:PUBLISH
X-ORIGINAL-URL:https://amf66.fr
X-WR-CALDESC:Évènements pour AMF66
REFRESH-INTERVAL;VALUE=DURATION:PT1H
X-Robots-Tag:noindex
X-PUBLISHED-TTL:PT1H
BEGIN:VTIMEZONE
TZID:Europe/Paris
BEGIN:DAYLIGHT
TZOFFSETFROM:+0100
TZOFFSETTO:+0200
TZNAME:CEST
DTSTART:20210328T010000
END:DAYLIGHT
BEGIN:STANDARD
TZOFFSETFROM:+0200
TZOFFSETTO:+0100
TZNAME:CET
DTSTART:20211031T010000
END:STANDARD
BEGIN:DAYLIGHT
TZOFFSETFROM:+0100
TZOFFSETTO:+0200
TZNAME:CEST
DTSTART:20220327T010000
END:DAYLIGHT
BEGIN:STANDARD
TZOFFSETFROM:+0200
TZOFFSETTO:+0100
TZNAME:CET
DTSTART:20221030T010000
END:STANDARD
BEGIN:DAYLIGHT
TZOFFSETFROM:+0100
TZOFFSETTO:+0200
TZNAME:CEST
DTSTART:20230326T010000
END:DAYLIGHT
BEGIN:STANDARD
TZOFFSETFROM:+0200
TZOFFSETTO:+0100
TZNAME:CET
DTSTART:20231029T010000
END:STANDARD
END:VTIMEZONE
BEGIN:VEVENT
DTSTART;TZID=Europe/Paris:20221005T090000
DTEND;TZID=Europe/Paris:20221005T120000
DTSTAMP:20260422T005059
CREATED:20220912T133554Z
LAST-MODIFIED:20220912T134503Z
UID:11126-1664960400-1664971200@amf66.fr
SUMMARY:Réunion d'information des Elus - Les enjeux d'un tourisme durable et responsable pour le secteur public
DESCRIPTION:L’Association des Maires\, des Adjoints et de l’Intercommunalité des Pyrénées-Orientales (AMF66)\, en partenariat avec le Fonds Tourisme Occitanie ont le plaisir de vous inviter à une réunion d’information sous la forme d’une table ronde sur le thème : \n« Les enjeux d’un tourisme durable et responsable pour le secteur public » \nCette réunion aura lieu le : \nMercredi 5 octobre 2022 de 9h00 à 12h00 \nà AMELIE-LES-BAINS – PALALDA \nSalle Jean Trescases (Quai du 8 mai 1945) \nVous pourrez éventuellement vous faire accompagner ou représenter par les élus de votre choix. \nPartagez cet article\, Choisissez votre Plateforme!
URL:https://amf66.fr/evenement/reunion-dinformation-des-elus-les-enjeux-dun-tourisme-durable-et-responsable-pour-le-secteur-public/
LOCATION:AMELIE-LES-BAINS – PALALDA (Salle Jean Trescases)\, Quai du 8 mai 1945\, AMELIE-LES-BAINS\, 66110\, France
CATEGORIES:Formations,Réunion d'information
ORGANIZER;CN="AMF66":MAILTO:communication@amf66.fr
END:VEVENT
END:VCALENDAR