BEGIN:VCALENDAR
VERSION:2.0
PRODID:-//AMF66 - ECPv6.15.20//NONSGML v1.0//EN
CALSCALE:GREGORIAN
METHOD:PUBLISH
X-WR-CALNAME:AMF66
X-ORIGINAL-URL:https://amf66.fr
X-WR-CALDESC:Évènements pour AMF66
REFRESH-INTERVAL;VALUE=DURATION:PT1H
X-Robots-Tag:noindex
X-PUBLISHED-TTL:PT1H
BEGIN:VTIMEZONE
TZID:Europe/Paris
BEGIN:DAYLIGHT
TZOFFSETFROM:+0100
TZOFFSETTO:+0200
TZNAME:CEST
DTSTART:20210328T010000
END:DAYLIGHT
BEGIN:STANDARD
TZOFFSETFROM:+0200
TZOFFSETTO:+0100
TZNAME:CET
DTSTART:20211031T010000
END:STANDARD
BEGIN:DAYLIGHT
TZOFFSETFROM:+0100
TZOFFSETTO:+0200
TZNAME:CEST
DTSTART:20220327T010000
END:DAYLIGHT
BEGIN:STANDARD
TZOFFSETFROM:+0200
TZOFFSETTO:+0100
TZNAME:CET
DTSTART:20221030T010000
END:STANDARD
BEGIN:DAYLIGHT
TZOFFSETFROM:+0100
TZOFFSETTO:+0200
TZNAME:CEST
DTSTART:20230326T010000
END:DAYLIGHT
BEGIN:STANDARD
TZOFFSETFROM:+0200
TZOFFSETTO:+0100
TZNAME:CET
DTSTART:20231029T010000
END:STANDARD
END:VTIMEZONE
BEGIN:VEVENT
DTSTART;TZID=Europe/Paris:20221109T140000
DTEND;TZID=Europe/Paris:20221109T170000
DTSTAMP:20260421T231341
CREATED:20220915T090321Z
LAST-MODIFIED:20221103T131549Z
UID:11137-1668002400-1668013200@amf66.fr
SUMMARY:Réunion des Correspondants Tempête- LATOUR-DE-FRANCE
DESCRIPTION:
URL:https://amf66.fr/evenement/reunjion-des-correspondants-tempete-9-11-22-latour-de-france/
LOCATION:SAINT-PAUL-DE-FENOUILLET (Salle du Foyer Rural)\, Avenue Georges Pezières\, SAINT-PAUL-DE-FENOUILLET\, 66220\, France
CATEGORIES:Réunion d'information
ATTACH;FMTTYPE=image/jpeg:https://amf66.fr/wp-content/uploads/2022/09/AMF66_reunion-infos.jpg
END:VEVENT
BEGIN:VEVENT
DTSTART;TZID=Europe/Paris:20221109T160000
DTEND;TZID=Europe/Paris:20221109T170000
DTSTAMP:20260421T231341
CREATED:20221028T071653Z
LAST-MODIFIED:20221103T131913Z
UID:11331-1668009600-1668013200@amf66.fr
SUMMARY:Webinaire Dématérialisation des autorisations d'urbanisme - 9 novembre 2022
DESCRIPTION:Depuis le 1er janvier 2022\, un usager peut déposer sa demande de permis de construire en ligne\, à tout moment et où qu’il soit\, dans une démarche simplifiée et sans frais. Toutes les communes doivent être en mesure de recevoir sous forme électronique les demandes d’autorisation d’urbanisme. Celles de plus de 3500 habitants doivent également assurer leur instruction sous forme dématérialisée. Pourtant il semble que certains élus ne soient pas encore à l’aise avec les outils mis à leur disposition. \nDans le cadre de notre partenariat avec le Conseil national de l’Ordre des architectes\, nous vous proposons de participer à un webinaire sur le thème de \n la dématérialisation des autorisations d’urbanisme \net de répondre à vos questions \nle 9 novembre de 16h00 à 17h30. \nSi vous souhaitez y participer ou y convier vos adhérents\, voici le lien d’inscription : \nhttps://forms.gle/33XYPop53dgCyfyf6
URL:https://amf66.fr/evenement/webinaire-dematerialisation-des-autorisations-durbanisme-9-novembre-2022/
CATEGORIES:Evénement,Réunion d'information
ATTACH;FMTTYPE=image/jpeg:https://amf66.fr/wp-content/uploads/2022/10/Visio-conference.jpg
ORGANIZER;CN="Mairie 2000":MAILTO:nathalie.dotres@amf.asso.fr
END:VEVENT
END:VCALENDAR